BEGIN:VCALENDAR
VERSION:2.0
PRODID:-//92.5 the River - ECPv5.16.3.1//NONSGML v1.0//EN
CALSCALE:GREGORIAN
METHOD:PUBLISH
X-WR-CALNAME:92.5 the River
X-ORIGINAL-URL:https://theriverboston.com
X-WR-CALDESC:Events for 92.5 the River
BEGIN:VTIMEZONE
TZID:America/New_York
BEGIN:DAYLIGHT
TZOFFSETFROM:-0500
TZOFFSETTO:-0400
TZNAME:EDT
DTSTART:20260308T070000
END:DAYLIGHT
BEGIN:STANDARD
TZOFFSETFROM:-0400
TZOFFSETTO:-0500
TZNAME:EST
DTSTART:20261101T060000
END:STANDARD
END:VTIMEZONE
BEGIN:VEVENT
DTSTART;TZID=America/New_York:20260228T190000
DTEND;TZID=America/New_York:20260228T210000
DTSTAMP:20260424T163449
CREATED:20251212T180625Z
LAST-MODIFIED:20251216T152729Z
UID:229755-1772305200-1772312400@theriverboston.com
SUMMARY:The Tano Jones Revelry @ The Word Barn
DESCRIPTION:View Tickets On Sale \nDid you miss Tano Jones Revelry at River Ruckus? Here’s your next chance…\nCradling a trusty six-string in-hand\, looking out from under the brim of a dusty hat\, and accompanied by a big red Labrador riding shotgun\, Tano Jones makes music for the people\, and he brings it right to them. \n\nThe proud Detroit-born singer\, songwriter\, guitarist\, producer\, and namesake of The Tano Jones Revelry calls out to the seekers. His music is for anybody who can’t contain their lust for life and dreams for a better tomorrow. These are songs that’ll compel you to clap\, stomp\, and sing at the top of your lungs. As such\, he’s tapped into a sense of magic conjured through adherence to the Americana troubadour tradition with a jolt of rock ‘n’ roll and the kind of no-nonsense Midwest soul you feel right away in your bones. \nSince delivering their full-length debut Spinning North at the top of 2024\, the band have impressively gathered millions of streams\, received acclaim\, and independently infiltrated airwaves via stations nationwide. Now\, they continue to travel this road at full speed. The buzz for the Tano Jones Revelry and their debut album Spinning North with singles “Daisy”\, “Light It” and now “What About Me” has been tremendous. To date\, the album has garnered well over 38 million streams to go along with thousands of radio stations spins happening all over the world domestically from Los Angeles to New York and internationally from London to Spain.
URL:https://theriverboston.com/events/tano-jones-revelry-the-word-barn/
LOCATION:The Word Barn\, 66 Newfields Rd\, Exeter\, 03833\, United States
END:VEVENT
END:VCALENDAR