BEGIN:VCALENDAR
VERSION:2.0
PRODID:-//92.5 the River - ECPv5.16.3.1//NONSGML v1.0//EN
CALSCALE:GREGORIAN
METHOD:PUBLISH
X-WR-CALNAME:92.5 the River
X-ORIGINAL-URL:https://theriverboston.com
X-WR-CALDESC:Events for 92.5 the River
BEGIN:VTIMEZONE
TZID:America/New_York
BEGIN:DAYLIGHT
TZOFFSETFROM:-0500
TZOFFSETTO:-0400
TZNAME:EDT
DTSTART:20170312T070000
END:DAYLIGHT
BEGIN:STANDARD
TZOFFSETFROM:-0400
TZOFFSETTO:-0500
TZNAME:EST
DTSTART:20171105T060000
END:STANDARD
END:VTIMEZONE
BEGIN:VEVENT
DTSTART;TZID=America/New_York:20170624T150000
DTEND;TZID=America/New_York:20170624T200000
DTSTAMP:20260425T000314
CREATED:20170606T160343Z
LAST-MODIFIED:20170606T172817Z
UID:46890-1498316400-1498334400@theriverboston.com
SUMMARY:ON TAP: New England Brewfest
DESCRIPTION:Join our friends from the New England Chevy Dealers\, along with the NH Liquor and Wine Outlets Summer Fun Tour on Saturday\, June 24th at Loon Mountain Resort for Saturday Night: ON TAP at the New England Brewfest! \nVIP Admission begins at 3pm\, and General Admission at 4pm. \nEvery ticket includes admission into the event\, an official tasting glass\, all beer samples during the event\, live entertainment\, and free parking.  \nGet your tickets for the Saturday evening event\, and check out the rest of the weekend’s exciting events! \nThis is a 21+ event\, please bring a valid form of ID. \nWe encourage all attendees to sample responsibly. You can designate a driver\, stay at a local lodging property that is participating in our shuttle bus service (included in your ticket price)\, there are even a number of lodging properties within walking distance to the event.
URL:https://theriverboston.com/events/tap-new-england-brewfest/
LOCATION:Loon Mountain\, 60 Loon Mountain Road\, Lincoln\, 03251\, United States
END:VEVENT
END:VCALENDAR