BEGIN:VCALENDAR
VERSION:2.0
PRODID:-//92.5 the River - ECPv5.16.3.1//NONSGML v1.0//EN
CALSCALE:GREGORIAN
METHOD:PUBLISH
X-WR-CALNAME:92.5 the River
X-ORIGINAL-URL:https://theriverboston.com
X-WR-CALDESC:Events for 92.5 the River
BEGIN:VTIMEZONE
TZID:America/New_York
BEGIN:DAYLIGHT
TZOFFSETFROM:-0500
TZOFFSETTO:-0400
TZNAME:EDT
DTSTART:20250309T070000
END:DAYLIGHT
BEGIN:STANDARD
TZOFFSETFROM:-0400
TZOFFSETTO:-0500
TZNAME:EST
DTSTART:20251102T060000
END:STANDARD
END:VTIMEZONE
BEGIN:VEVENT
DTSTART;TZID=America/New_York:20250913T120000
DTEND;TZID=America/New_York:20250913T203000
DTSTAMP:20260423T142326
CREATED:20250801T153856Z
LAST-MODIFIED:20250811T202242Z
UID:228360-1757764800-1757795400@theriverboston.com
SUMMARY:Team Haverhill's River Ruckus
DESCRIPTION:Team Haverhill’s River Ruckus Returns\nJoin 92.5 the River at Team Haverhill’s River Ruckus  – featuring headliner The Strumbellas!\n\nLive music from Noon to 8 PM\nFree Admission\nFireworks show 8-8:30 PM\nFood vendors\nClassic cars\nKids Zone\nArt\, history\, and live demonstrations\n\n  \nMusic Lineup\n\nThe Strumbellas – 6:15 PM\nThe Tano Jones Revelry – 4:35 PM\nNate Perry & Ragged Company- 3:15 PM\nAva Valianti – 2 PM\nClandestine – 1 PM\n\nAbout River Ruckus\nRiver Ruckus was born at Possible Dreams in January of 2010 as a “dream” of bringing the community together for a day of family fun along the Riverwalk and the Riverfront Cultural District; to boost the local economy; and to boast about what Haverhill has to offer. A team of dedicated Team Haverhill volunteers pulled together the first event in August\, 2010. \nTeam Haverhill’s River Ruckus was an immediate success and has grown in numbers of guests\, volunteers\, sponsors and participants every year. \nOur logo conveys the spirit of the River Ruckus: our love for the mighty Merrimack River\, our passion for live music\, and the excitement and spectacle of the fireworks over the river. It’s a great representation of the festival – a great day of bringing our community together – on the river. \nConnect on Facebook!
URL:https://theriverboston.com/events/team-haverhills-river-ruckus-2025/
LOCATION:Riverfront Park\, 96 Washington Street\, Haverhill\, MA\, 01832\, United States
END:VEVENT
END:VCALENDAR