BEGIN:VCALENDAR
VERSION:2.0
PRODID:-//92.5 the River - ECPv5.16.3.1//NONSGML v1.0//EN
CALSCALE:GREGORIAN
METHOD:PUBLISH
X-WR-CALNAME:92.5 the River
X-ORIGINAL-URL:https://theriverboston.com
X-WR-CALDESC:Events for 92.5 the River
BEGIN:VTIMEZONE
TZID:America/New_York
BEGIN:DAYLIGHT
TZOFFSETFROM:-0500
TZOFFSETTO:-0400
TZNAME:EDT
DTSTART:20250309T070000
END:DAYLIGHT
BEGIN:STANDARD
TZOFFSETFROM:-0400
TZOFFSETTO:-0500
TZNAME:EST
DTSTART:20251102T060000
END:STANDARD
END:VTIMEZONE
BEGIN:VEVENT
DTSTART;TZID=America/New_York:20250906T190000
DTEND;TZID=America/New_York:20250906T190000
DTSTAMP:20260423T124857
CREATED:20250123T165404Z
LAST-MODIFIED:20250127T155114Z
UID:226063-1757185200-1757185200@theriverboston.com
SUMMARY:Tedeschi Trucks Band @ Xfinity Center
DESCRIPTION:Tedeschi Trucks Band | September 6th \nShow: 7pm \nTedschi Trucks Band is coming to Mass! Grab your tickets to see them on September 6th at Xfinity Center in Mansfield! \nGet your tickets here!
URL:https://theriverboston.com/events/tedeschi-trucks-xfinity-center/
LOCATION:Xfinity Center\, 885 S Main St\, Mansfield \, MA\, 02048\, United States
END:VEVENT
END:VCALENDAR