BEGIN:VCALENDAR
VERSION:2.0
PRODID:-//92.5 the River - ECPv5.16.3.1//NONSGML v1.0//EN
CALSCALE:GREGORIAN
METHOD:PUBLISH
X-WR-CALNAME:92.5 the River
X-ORIGINAL-URL:https://theriverboston.com
X-WR-CALDESC:Events for 92.5 the River
BEGIN:VTIMEZONE
TZID:America/New_York
BEGIN:DAYLIGHT
TZOFFSETFROM:-0500
TZOFFSETTO:-0400
TZNAME:EDT
DTSTART:20230312T070000
END:DAYLIGHT
BEGIN:STANDARD
TZOFFSETFROM:-0400
TZOFFSETTO:-0500
TZNAME:EST
DTSTART:20231105T060000
END:STANDARD
END:VTIMEZONE
BEGIN:VEVENT
DTSTART;TZID=America/New_York:20231112T193000
DTEND;TZID=America/New_York:20231112T193000
DTSTAMP:20260424T200559
CREATED:20230619T185155Z
LAST-MODIFIED:20230619T185155Z
UID:220444-1699817400-1699817400@theriverboston.com
SUMMARY:The 1975 at TD Garden
DESCRIPTION:The 1975 has announced the “Still… At Their Very Best” fall tour\, the band’s biggest North American tour to date. The Matty Healy-led group will take their fifth album\, “Being Funny in a Foreign Language\,” across the U.S. and Canada for the second time since its October 2022 release. Get Tickets to see them live at TD Garden!
URL:https://theriverboston.com/events/the-1975-at-td-garden/
LOCATION:TD Garden\, 100 Legends Way\, Boston\, MA\, 02114\, United States
END:VEVENT
END:VCALENDAR