BEGIN:VCALENDAR
VERSION:2.0
PRODID:-//92.5 the River - ECPv5.16.3.1//NONSGML v1.0//EN
CALSCALE:GREGORIAN
METHOD:PUBLISH
X-WR-CALNAME:92.5 the River
X-ORIGINAL-URL:https://theriverboston.com
X-WR-CALDESC:Events for 92.5 the River
BEGIN:VTIMEZONE
TZID:America/New_York
BEGIN:DAYLIGHT
TZOFFSETFROM:-0500
TZOFFSETTO:-0400
TZNAME:EDT
DTSTART:20190310T070000
END:DAYLIGHT
BEGIN:STANDARD
TZOFFSETFROM:-0400
TZOFFSETTO:-0500
TZNAME:EST
DTSTART:20191103T060000
END:STANDARD
END:VTIMEZONE
BEGIN:VEVENT
DTSTART;TZID=America/New_York:20190330T080000
DTEND;TZID=America/New_York:20190330T170000
DTSTAMP:20260419T114558
CREATED:20190311T164256Z
LAST-MODIFIED:20190326T174038Z
UID:207313-1553932800-1553965200@theriverboston.com
SUMMARY:The Aldous Collins Band And The River Street Team At The Cellar In Hotel Salem!
DESCRIPTION:The 7-day Salem Film Fest is starting on Friday\, March 29th\, so the River will be helping celebrate opening weekend! The River Street Team will be giving away station merchandise and concert tickets to see Maggie Rogers on October 5th at the Wang Theatre\, on Saturday\, March 30th at The Cellar in Hotel Salem starting at 8 p.m. before the Aldous Collins Band performs at 9:30! Mark your calendars and don’t miss a night of music\, movies\, and fun!
URL:https://theriverboston.com/events/the-aldous-collins-band-the-river-street-team-at-the-cellar-in-hotel-salem/
LOCATION:The Cellar at Hotel Salem\, 209 Essex St\, Salem\, MA\, 01970\, United States
END:VEVENT
END:VCALENDAR