BEGIN:VCALENDAR
VERSION:2.0
PRODID:-//92.5 the River - ECPv5.16.3.1//NONSGML v1.0//EN
CALSCALE:GREGORIAN
METHOD:PUBLISH
X-WR-CALNAME:92.5 the River
X-ORIGINAL-URL:https://theriverboston.com
X-WR-CALDESC:Events for 92.5 the River
BEGIN:VTIMEZONE
TZID:America/New_York
BEGIN:DAYLIGHT
TZOFFSETFROM:-0500
TZOFFSETTO:-0400
TZNAME:EDT
DTSTART:20190310T070000
END:DAYLIGHT
BEGIN:STANDARD
TZOFFSETFROM:-0400
TZOFFSETTO:-0500
TZNAME:EST
DTSTART:20191103T060000
END:STANDARD
END:VTIMEZONE
BEGIN:VEVENT
DTSTART;TZID=America/New_York:20191004T193000
DTEND;TZID=America/New_York:20191004T220000
DTSTAMP:20260419T123300
CREATED:20190624T172624Z
LAST-MODIFIED:20190926T171453Z
UID:209521-1570217400-1570226400@theriverboston.com
SUMMARY:The Avett Brothers at the DCU Center!
DESCRIPTION:Hear The Avett Brothers’ new album live first before it comes out the same day! The Avett Brothers’ music has roots in traditional folk and bluegrass\, but also captures the high spirits and no-boundaries attitude of rock & roll. Check out their new single\, “High Steppin’!” \nEnter to win tickets before June 28th to see The Avett Brothers at the DCU Center! Buy tickets here.
URL:https://theriverboston.com/events/the-avett-brothers-at-the-dcu-center-on-friday-october-4th/
LOCATION:DCU Center\, 50 Foster St\, Worcester\, MA\, 01608\, United States
END:VEVENT
END:VCALENDAR