BEGIN:VCALENDAR
VERSION:2.0
PRODID:-//92.5 the River - ECPv5.16.3.1//NONSGML v1.0//EN
CALSCALE:GREGORIAN
METHOD:PUBLISH
X-WR-CALNAME:92.5 the River
X-ORIGINAL-URL:https://theriverboston.com
X-WR-CALDESC:Events for 92.5 the River
BEGIN:VTIMEZONE
TZID:America/New_York
BEGIN:DAYLIGHT
TZOFFSETFROM:-0500
TZOFFSETTO:-0400
TZNAME:EDT
DTSTART:20210314T070000
END:DAYLIGHT
BEGIN:STANDARD
TZOFFSETFROM:-0400
TZOFFSETTO:-0500
TZNAME:EST
DTSTART:20211107T060000
END:STANDARD
END:VTIMEZONE
BEGIN:VEVENT
DTSTART;TZID=America/New_York:20211111T190000
DTEND;TZID=America/New_York:20211111T210000
DTSTAMP:20260421T012304
CREATED:20211026T183935Z
LAST-MODIFIED:20211026T183935Z
UID:215015-1636657200-1636664400@theriverboston.com
SUMMARY:The Boston Comedy Festival All-Stars
DESCRIPTION:The Boston Comedy Festival All-Stars\n\nNovember 11\, 2021\n\n\n7:00-9:00 PM\n\n\nThe Burren\nBoston Comedy Festival all-stars were picked from the galaxy of stars that have performed at the Boston Comedy Festival over the last 20 years. We are proud to bring together this truly All-Star line up to the universe! Performers:  Boston comedian Tony V has appeared on Late Night w/ Conan O’Brien. Carolyn Plummer pulls material from the hum-drum\, day-to-day monotony of the life of everyman; and she does it well. More show info.
URL:https://theriverboston.com/events/the-boston-comedy-festival-all-stars/
LOCATION:the burren\, 247 Elm St\, Somerville\, MA\, 02144\, United States
END:VEVENT
END:VCALENDAR