BEGIN:VCALENDAR
VERSION:2.0
PRODID:-//92.5 the River - ECPv5.16.3.1//NONSGML v1.0//EN
CALSCALE:GREGORIAN
METHOD:PUBLISH
X-WR-CALNAME:92.5 the River
X-ORIGINAL-URL:https://theriverboston.com
X-WR-CALDESC:Events for 92.5 the River
BEGIN:VTIMEZONE
TZID:America/New_York
BEGIN:DAYLIGHT
TZOFFSETFROM:-0500
TZOFFSETTO:-0400
TZNAME:EDT
DTSTART:20250309T070000
END:DAYLIGHT
BEGIN:STANDARD
TZOFFSETFROM:-0400
TZOFFSETTO:-0500
TZNAME:EST
DTSTART:20251102T060000
END:STANDARD
END:VTIMEZONE
BEGIN:VEVENT
DTSTART;TZID=America/New_York:20250711T200000
DTEND;TZID=America/New_York:20250711T200000
DTSTAMP:20260424T073339
CREATED:20250707T204616Z
LAST-MODIFIED:20250707T204616Z
UID:227987-1752264000-1752264000@theriverboston.com
SUMMARY:The Fab Four at Casino Ballroom
DESCRIPTION:Buy Tickets Here \nAn Evening with\nThe Fab Four – Ultimate Tribute\nDoors: 7 PM | 18+\nIf you want to experience the best Beatles tribute ever\, you won’t want to miss The Fab Four-The Ultimate Tribute. \nThe Emmy Award Winning Fab Four is elevated far above every other Beatles Tribute due to their precise attention to detail. With uncanny\, note-for-note live renditions of Beatles’ classics such as “Can’t Buy Me Love\,” “Yesterday\,” “A Day In The Life\,” “Twist And Shout\,” “Here Comes The Sun\,” and “Hey Jude”\, the Fab Four will make you think you are watching the real thing. \nTheir incredible stage performances include three costume changes representing every era of the Beatles ever-changing career\, and this loving tribute to the Beatles has amazed audiences in countries around the world\, including Japan\, Australia\, France\, Hong Kong\, The United Kingdom\, Germany\, Mexico and Brazil. \nThe Fab Four is truly the Ultimate tribute. \nFIND MORE CASINO BALLROOM SHOWS HERE
URL:https://theriverboston.com/events/the-fab-four-casino-ballroom-2025/
LOCATION:Hampton Beach Casino Ballroom\, 169 Ocean Blvd\, Hampton\, NH\, United States
END:VEVENT
END:VCALENDAR