BEGIN:VCALENDAR
VERSION:2.0
PRODID:-//92.5 the River - ECPv5.16.3.1//NONSGML v1.0//EN
CALSCALE:GREGORIAN
METHOD:PUBLISH
X-WR-CALNAME:92.5 the River
X-ORIGINAL-URL:https://theriverboston.com
X-WR-CALDESC:Events for 92.5 the River
BEGIN:VTIMEZONE
TZID:America/New_York
BEGIN:DAYLIGHT
TZOFFSETFROM:-0500
TZOFFSETTO:-0400
TZNAME:EDT
DTSTART:20250309T070000
END:DAYLIGHT
BEGIN:STANDARD
TZOFFSETFROM:-0400
TZOFFSETTO:-0500
TZNAME:EST
DTSTART:20251102T060000
END:STANDARD
END:VTIMEZONE
BEGIN:VEVENT
DTSTART;TZID=America/New_York:20250925T200000
DTEND;TZID=America/New_York:20250925T200000
DTSTAMP:20260422T153858
CREATED:20250915T154137Z
LAST-MODIFIED:20250915T154301Z
UID:228799-1758830400-1758830400@theriverboston.com
SUMMARY:The Far Out & Residual Groove Live @ The Cut in Gloucester
DESCRIPTION:The Far Out are on tour this fall supporting their debut album\, Greetings from The Far Out! The Boston funk/soul group has been making waves since winning ‘New Act of The Year’ at the 2024 New England Music Awards\, and are known for their high energy and full-of-joy performances. See what all the buzz is about as they bring it back home to Massachusetts on Thursday\, September 25th with Residual Groove! Grab your tickets today. \n  \nMore about the bands: \nThe Far Out is made up of multi-instrumentalists and lifelong friends Ellie Dolan\, Olivia Lowe\, Drew Phillips\, Colin Senechal\, Ryan Fremont-Smith\, and Henry Zagarella. The six powerhouse musicians engage their audiences with lush vocals and groovy horn lines\, supported by undeniable chemistry and raw star quality. Their goal is to include audiences in their infectious vibe and spread the love of funk and soul music. Their new album\, Greetings from The Far Out\, spreads a communal sense of joy \nResidual Groove (Norwalk\, Connecticut) has quickly earned a reputation for marrying high-octane jam-rock energy with disciplined musicianship. Founded by brothers Kiran Edwards (keys / vocals) and Previn Edwards (guitar / vocals)\, the quintet now features the melodic low-end wizardry of Ryan Berry on bass\, alongside the explosive Henry Thomas (drums) and percussive ace Garrett Halstead. Ryan’s arrival in 2025 has deepened the band’s pocket and opened new improvisational avenues\, adding a fresh\, muscular dimension to their sound. Residual Groove’s 2024 debut album In Dream Time drew praise from peers and tastemakers across the jam scene for its forward-thinking arrangements and fearless sonic exploration.
URL:https://theriverboston.com/events/the-far-out-residual-groove-the-cut-gloucester/
LOCATION:The Cut Live\, 177 Main St\, Gloucester\, MA\, 01930\, United States
END:VEVENT
END:VCALENDAR