BEGIN:VCALENDAR
VERSION:2.0
PRODID:-//92.5 the River - ECPv5.16.3.1//NONSGML v1.0//EN
CALSCALE:GREGORIAN
METHOD:PUBLISH
X-WR-CALNAME:92.5 the River
X-ORIGINAL-URL:https://theriverboston.com
X-WR-CALDESC:Events for 92.5 the River
BEGIN:VTIMEZONE
TZID:America/New_York
BEGIN:DAYLIGHT
TZOFFSETFROM:-0500
TZOFFSETTO:-0400
TZNAME:EDT
DTSTART:20190310T070000
END:DAYLIGHT
BEGIN:STANDARD
TZOFFSETFROM:-0400
TZOFFSETTO:-0500
TZNAME:EST
DTSTART:20191103T060000
END:STANDARD
END:VTIMEZONE
BEGIN:VEVENT
DTSTART;TZID=America/New_York:20191208T200000
DTEND;TZID=America/New_York:20191208T230000
DTSTAMP:20260423T184723
CREATED:20191126T223959Z
LAST-MODIFIED:20191126T223959Z
UID:211241-1575835200-1575846000@theriverboston.com
SUMMARY:The Fixx @ Big Night Live!
DESCRIPTION:Join The Fixx at Boston’s newest venue\, Big Night Live! The space is a tribute to the romance of past music halls and supper clubs with over sized red crystal chandeliers and 20′ wood finsihsed walls\, all flanked with a variety of photography and fine art!
URL:https://theriverboston.com/events/the-fixx-big-night-live/
LOCATION:Big Night Live\, 110 Causeway St\, Boston\, MA\, 02114\, United States
END:VEVENT
END:VCALENDAR