BEGIN:VCALENDAR
VERSION:2.0
PRODID:-//92.5 the River - ECPv5.16.3.1//NONSGML v1.0//EN
CALSCALE:GREGORIAN
METHOD:PUBLISH
X-WR-CALNAME:92.5 the River
X-ORIGINAL-URL:https://theriverboston.com
X-WR-CALDESC:Events for 92.5 the River
BEGIN:VTIMEZONE
TZID:America/New_York
BEGIN:DAYLIGHT
TZOFFSETFROM:-0500
TZOFFSETTO:-0400
TZNAME:EDT
DTSTART:20190310T070000
END:DAYLIGHT
BEGIN:STANDARD
TZOFFSETFROM:-0400
TZOFFSETTO:-0500
TZNAME:EST
DTSTART:20191103T060000
END:STANDARD
END:VTIMEZONE
BEGIN:VEVENT
DTSTART;TZID=America/New_York:20190908T090000
DTEND;TZID=America/New_York:20190908T180000
DTSTAMP:20260423T214600
CREATED:20190715T191232Z
LAST-MODIFIED:20190715T191232Z
UID:209850-1567933200-1567965600@theriverboston.com
SUMMARY:The Hampton Beach Annual Seafood Festival is Back For It's 30th Anniversary!
DESCRIPTION:Do you like the sea? Do you like food? Do you like seafood? Well if the answer is yes then boy do we have an event for you! Hampton Beach is hosting its 30th Annual Seafood Festival September 6th through the 8th and they want you to join the party! \nFeaturing 50 of the Seacoast’s top restaurants\, this gathering has been rated one of the Top 100 Events in North America by the American Bus Association! Prepare yourself for day filled with continuous entertainment\, end-of-season sidewalk sales\, arts and crafts\, a beer tent\, lobster eating contest\, Culinary Chef Demonstrations\, a spectacular fireworks display! \nEnjoy live music on TWO STAGES…. Including several River Homegrown favorites: The Spaceheaters open the event Friday 9/6 at 1PM\, followed the ever popular: Jason Spooner Band that evening. Then\, wrapping things up on Sunday 9/9 catch American Idol finalist: Alex Preston. \nClear you weekend\, because this is something you won’t want to miss! \nThe admission costs are as listed: Friday: $5.00; Saturday\, $10.00; Sunday\, $8.00. We’re happy to confirm that a large portion of Admission Proceeds go to support the charities of the Knights of Columbus!
URL:https://theriverboston.com/events/the-hampton-beach-annual-seafood-festival-is-back-for-its-30th-anniversary-3/
LOCATION:Hampton Beach\, Hampton\, NH\, 03842\, United States
END:VEVENT
END:VCALENDAR