BEGIN:VCALENDAR
VERSION:2.0
PRODID:-//92.5 the River - ECPv5.16.3.1//NONSGML v1.0//EN
CALSCALE:GREGORIAN
METHOD:PUBLISH
X-WR-CALNAME:92.5 the River
X-ORIGINAL-URL:https://theriverboston.com
X-WR-CALDESC:Events for 92.5 the River
BEGIN:VTIMEZONE
TZID:America/New_York
BEGIN:DAYLIGHT
TZOFFSETFROM:-0500
TZOFFSETTO:-0400
TZNAME:EDT
DTSTART:20190310T070000
END:DAYLIGHT
BEGIN:STANDARD
TZOFFSETFROM:-0400
TZOFFSETTO:-0500
TZNAME:EST
DTSTART:20191103T060000
END:STANDARD
END:VTIMEZONE
BEGIN:VEVENT
DTSTART;TZID=America/New_York:20191227T190000
DTEND;TZID=America/New_York:20191229T000000
DTSTAMP:20260423T171925
CREATED:20190925T204432Z
LAST-MODIFIED:20190926T180751Z
UID:210588-1577473200-1577577600@theriverboston.com
SUMMARY:The Mighty Mighty Bosstones are coming back to HOB!
DESCRIPTION:The Mighty Mighty Bosstones are coming back for their 22nd annual hometown throwdown at House of Blues! This groovy group is celebrating their 30th year anniversary in Boston December 27th – 29th\, and you have a chance to win tickets to any one of the nights (while supplies last) now through Friday 9/27! Tickets go on sale 9/27 at 10am but you can enter to win before you buy!
URL:https://theriverboston.com/events/the-mighty-mighty-bosstones-are-coming-back-to-hob/
LOCATION:House of Blues Boston\, 15 Landsdowne Street\, Boston\, MA\, 02215\, United States
END:VEVENT
END:VCALENDAR