BEGIN:VCALENDAR
VERSION:2.0
PRODID:-//92.5 the River - ECPv5.16.3.1//NONSGML v1.0//EN
CALSCALE:GREGORIAN
METHOD:PUBLISH
X-WR-CALNAME:92.5 the River
X-ORIGINAL-URL:https://theriverboston.com
X-WR-CALDESC:Events for 92.5 the River
BEGIN:VTIMEZONE
TZID:America/New_York
BEGIN:DAYLIGHT
TZOFFSETFROM:-0500
TZOFFSETTO:-0400
TZNAME:EDT
DTSTART:20260308T070000
END:DAYLIGHT
BEGIN:STANDARD
TZOFFSETFROM:-0400
TZOFFSETTO:-0500
TZNAME:EST
DTSTART:20261101T060000
END:STANDARD
END:VTIMEZONE
BEGIN:VEVENT
DTSTART;TZID=America/New_York:20260422T200000
DTEND;TZID=America/New_York:20260422T200000
DTSTAMP:20260419T052224
CREATED:20260414T040831Z
LAST-MODIFIED:20260414T040831Z
UID:230656-1776888000-1776888000@theriverboston.com
SUMMARY:The New Pornographers @ The Wilbur
DESCRIPTION:View Tickets \nNEW ALBUM ‘THE FORMER SITE OF’ OUT NOW VIA MERGE RECORDS\nOpener: Will Sheff (of Okkervil River) | Doors Open: 1 Hour Prior to Showtime \nOver the past 20 years\, The New Pornographers have proven themselves one of the most excellent bands in indie rock. \nThey’ve constantly offered new sonic surprises with every album\, and have established themselves alongside modern luminaries like Yo La Tengo and Superchunk when it comes to their ability to evolve while still retaining what made them so special in the first place. \n“Over the course of their 20-plus-year career\, the New Pornographers have often specialized in catchy ambiguity. If leader Carl Newman was just a machine cranking out power-pop tunes\, it would get boring. But there’s also a lot of mixed emotions going on under the surface of their studiously nuanced pop-rock formalism—like if Cheap Trick was as quick-witted as Steely Dan\, or the Romantics were as thoughtful as R.E.M.”\n– Rolling Stone \n“Pure\, blissfully irresistible power pop”\n– NPR Music
URL:https://theriverboston.com/events/the-new-pornographers-the-wilbur/
LOCATION:The Wilbur\, 246 Tremont St\, Boston\, MA\, 02116\, United States
END:VEVENT
END:VCALENDAR