BEGIN:VCALENDAR
VERSION:2.0
PRODID:-//92.5 the River - ECPv5.16.3.1//NONSGML v1.0//EN
CALSCALE:GREGORIAN
METHOD:PUBLISH
X-WR-CALNAME:92.5 the River
X-ORIGINAL-URL:https://theriverboston.com
X-WR-CALDESC:Events for 92.5 the River
BEGIN:VTIMEZONE
TZID:America/New_York
BEGIN:DAYLIGHT
TZOFFSETFROM:-0500
TZOFFSETTO:-0400
TZNAME:EDT
DTSTART:20210314T070000
END:DAYLIGHT
BEGIN:STANDARD
TZOFFSETFROM:-0400
TZOFFSETTO:-0500
TZNAME:EST
DTSTART:20211107T060000
END:STANDARD
END:VTIMEZONE
BEGIN:VEVENT
DTSTART;TZID=America/New_York:20211024T190000
DTEND;TZID=America/New_York:20211024T190000
DTSTAMP:20260421T213025
CREATED:20210610T172110Z
LAST-MODIFIED:20210610T172204Z
UID:213755-1635102000-1635102000@theriverboston.com
SUMMARY:The Record Company @ Paradise Record Club
DESCRIPTION:Don’t miss The Record Company at Paradise Rock Club\nDoors open at 7 PM. \nThe Record Company comes to Paradise Rock Club on October 24th for their Play Loud tour. They will be making 32 different stops across the United States with special guest JJ Wilde. Catch them live with the return of live music! READ MORE. \nCLICK HERE to buy tickets! \nClick For All Things Psychedelic Furs | Facebook | Twitter | Instagram \nPresented by: \n\n 
URL:https://theriverboston.com/events/the-record-company-paradise-record-club/
LOCATION:Paradise Rock Club\, 967 Commonwealth Ave\, Boston\, MA\, 02215\, United States
END:VEVENT
END:VCALENDAR