BEGIN:VCALENDAR
VERSION:2.0
PRODID:-//92.5 the River - ECPv5.16.3.1//NONSGML v1.0//EN
CALSCALE:GREGORIAN
METHOD:PUBLISH
X-WR-CALNAME:92.5 the River
X-ORIGINAL-URL:https://theriverboston.com
X-WR-CALDESC:Events for 92.5 the River
BEGIN:VTIMEZONE
TZID:America/New_York
BEGIN:DAYLIGHT
TZOFFSETFROM:-0500
TZOFFSETTO:-0400
TZNAME:EDT
DTSTART:20190310T070000
END:DAYLIGHT
BEGIN:STANDARD
TZOFFSETFROM:-0400
TZOFFSETTO:-0500
TZNAME:EST
DTSTART:20191103T060000
END:STANDARD
END:VTIMEZONE
BEGIN:VEVENT
DTSTART;TZID=America/New_York:20190528T180000
DTEND;TZID=America/New_York:20190528T220000
DTSTAMP:20260419T200259
CREATED:20190312T182259Z
LAST-MODIFIED:20190312T183123Z
UID:207372-1559066400-1559080800@theriverboston.com
SUMMARY:The River Presents Art Alexakis and Friends!
DESCRIPTION:Spend an evening at the City Winery Boston\, with Art Alexakis of Everclear on May 28th! Art’s “Song & Stories” tour will be in Boston for one night and joining the singer/songwriter are Chris Collingwood of Fountains of Wayne\, Max Collins of Eve 6\, and John Wozniak of Marcy Playground! \nTickets for the show are available here \nWhile you’re here\, make sure to check out Everclear’s website for more tour dates and performances! \nTo stay on top of events going on at City Winery\, check out their Twitter\, Instagram\, and Facebook
URL:https://theriverboston.com/events/the-river-presents-art-alexakis-and-friends/
LOCATION:City Winery Boston\, 80 Beverly Street at One Canal\, Boston\, MA\, 02114\, United States
ORGANIZER;CN="92.5%20the%20River":MAILTO:promotions@wxrv.com
END:VEVENT
END:VCALENDAR