BEGIN:VCALENDAR
VERSION:2.0
PRODID:-//92.5 the River - ECPv5.16.3.1//NONSGML v1.0//EN
CALSCALE:GREGORIAN
METHOD:PUBLISH
X-WR-CALNAME:92.5 the River
X-ORIGINAL-URL:https://theriverboston.com
X-WR-CALDESC:Events for 92.5 the River
BEGIN:VTIMEZONE
TZID:America/New_York
BEGIN:DAYLIGHT
TZOFFSETFROM:-0500
TZOFFSETTO:-0400
TZNAME:EDT
DTSTART:20180311T070000
END:DAYLIGHT
BEGIN:STANDARD
TZOFFSETFROM:-0400
TZOFFSETTO:-0500
TZNAME:EST
DTSTART:20181104T060000
END:STANDARD
END:VTIMEZONE
BEGIN:VEVENT
DTSTART;TZID=America/New_York:20181029T190000
DTEND;TZID=America/New_York:20181029T220000
DTSTAMP:20260420T225040
CREATED:20180919T140605Z
LAST-MODIFIED:20180919T140820Z
UID:200817-1540839600-1540850400@theriverboston.com
SUMMARY:The River Presents: Dermot Kennedy at the Royale
DESCRIPTION:The River Presents: Dermot Kennedy at the Royale\nTICKETS ARE NOW SOLD OUT\nDoors – 7:00PM \nShow – 8:00PM \n18+ show. \nStay tuned for one last chance to win tickets!
URL:https://theriverboston.com/events/the-river-presents-dermot-kennedy-at-the-royale/
LOCATION:Royale Boston\, 279 Tremont St\, Boston\, MA\, 02116\, United States
ORGANIZER;CN="92.5%20the%20River":MAILTO:promotions@wxrv.com
END:VEVENT
END:VCALENDAR