BEGIN:VCALENDAR
VERSION:2.0
PRODID:-//92.5 the River - ECPv5.16.3.1//NONSGML v1.0//EN
CALSCALE:GREGORIAN
METHOD:PUBLISH
X-WR-CALNAME:92.5 the River
X-ORIGINAL-URL:https://theriverboston.com
X-WR-CALDESC:Events for 92.5 the River
BEGIN:VTIMEZONE
TZID:America/New_York
BEGIN:DAYLIGHT
TZOFFSETFROM:-0500
TZOFFSETTO:-0400
TZNAME:EDT
DTSTART:20150308T070000
END:DAYLIGHT
BEGIN:STANDARD
TZOFFSETFROM:-0400
TZOFFSETTO:-0500
TZNAME:EST
DTSTART:20151101T060000
END:STANDARD
END:VTIMEZONE
BEGIN:VEVENT
DTSTART;TZID=America/New_York:20150807T190000
DTEND;TZID=America/New_York:20150807T213000
DTSTAMP:20260420T212650
CREATED:20150804T164159Z
LAST-MODIFIED:20150804T164159Z
UID:8102-1438974000-1438983000@theriverboston.com
SUMMARY:The River Presents: Donavon Frankenreiter
DESCRIPTION:The River Presents: Donavon Frankenreiter\n\n\n\nCome to Blue Ocean Music Hall and see Donavon Frankenreiter as he plays his new music from his album\, “The Heart”. Go to our Tickets & Exclusive Offers page NOW for your chance to win tickets to the show! To find out more information about the show\, check out his website. \nDetails\nWhere: Blue Ocean Music Hall\, Salisbury MA \nWhen: Friday\, August 7th \n7:00pm
URL:https://theriverboston.com/events/the-river-presents-donavon-frankenreiter/
LOCATION:Blue Ocean Music Hall\, 4 Ocean Front N\, Salisbury\, MA\, 01952\, United States
END:VEVENT
END:VCALENDAR