BEGIN:VCALENDAR
VERSION:2.0
PRODID:-//92.5 the River - ECPv5.16.3.1//NONSGML v1.0//EN
CALSCALE:GREGORIAN
METHOD:PUBLISH
X-WR-CALNAME:92.5 the River
X-ORIGINAL-URL:https://theriverboston.com
X-WR-CALDESC:Events for 92.5 the River
BEGIN:VTIMEZONE
TZID:America/New_York
BEGIN:DAYLIGHT
TZOFFSETFROM:-0500
TZOFFSETTO:-0400
TZNAME:EDT
DTSTART:20190310T070000
END:DAYLIGHT
BEGIN:STANDARD
TZOFFSETFROM:-0400
TZOFFSETTO:-0500
TZNAME:EST
DTSTART:20191103T060000
END:STANDARD
END:VTIMEZONE
BEGIN:VEVENT
DTSTART;TZID=America/New_York:20191228T200000
DTEND;TZID=America/New_York:20191228T200000
DTSTAMP:20260423T171749
CREATED:20191106T203413Z
LAST-MODIFIED:20191106T203413Z
UID:211005-1577563200-1577563200@theriverboston.com
SUMMARY:The River Presents: Matisyahu!
DESCRIPTION:The River Presents: Matisyahu at Tupelo!\nSee Matisyahu at the Tupelo Music Hall on Saturday\, December 28th! \nWhen Matisyahu first started touring to packed clubs more than eleven years ago\, it was prior to the release of Live at Stubbs\, the now Gold record\, and prior to that record’s single “King without a Crown” reaching #1 on the alternative rock radio charts.  His performances were a raw expression of his spirituality at that time and were supported by musicians who played a foundation of roots reggae augmented by the energy of a rock trio.
URL:https://theriverboston.com/events/the-river-presents-matisyahu/
LOCATION:Tupelo Drive-in Experience\, 10 A Street\, Derry\, NH\, 03038\, United States
END:VEVENT
END:VCALENDAR