BEGIN:VCALENDAR
VERSION:2.0
PRODID:-//92.5 the River - ECPv5.16.3.1//NONSGML v1.0//EN
CALSCALE:GREGORIAN
METHOD:PUBLISH
X-WR-CALNAME:92.5 the River
X-ORIGINAL-URL:https://theriverboston.com
X-WR-CALDESC:Events for 92.5 the River
BEGIN:VTIMEZONE
TZID:America/New_York
BEGIN:DAYLIGHT
TZOFFSETFROM:-0500
TZOFFSETTO:-0400
TZNAME:EDT
DTSTART:20180311T070000
END:DAYLIGHT
BEGIN:STANDARD
TZOFFSETFROM:-0400
TZOFFSETTO:-0500
TZNAME:EST
DTSTART:20181104T060000
END:STANDARD
END:VTIMEZONE
BEGIN:VEVENT
DTSTART;TZID=America/New_York:20181012T190000
DTEND;TZID=America/New_York:20181012T190000
DTSTAMP:20260421T162134
CREATED:20180621T145329Z
LAST-MODIFIED:20180621T204355Z
UID:90795-1539370800-1539370800@theriverboston.com
SUMMARY:The River Presents Noah Kahan @ Brighton Music Hall
DESCRIPTION:92.5 the River Presents Noah Kahan at the Brighton Music Hall\nNoah Kahan is stopping in Boston on October 12th during his first United States headlining tour! \nDoors open at 7:00pm. Show begins at 8:00pm \nAdvance Tickets: $15 – Day of Show $18 \nCheck out Noah’s newest newest single\, “Come Down“!
URL:https://theriverboston.com/events/the-river-presents-noah-kahan-brighton-music-hall/
LOCATION:Brighton Music Hall\, 158 Brighton Ave\, Allston\, MA\, 02134\, United States
ORGANIZER;CN="92.5%20the%20River":MAILTO:promotions@wxrv.com
END:VEVENT
END:VCALENDAR