BEGIN:VCALENDAR
VERSION:2.0
PRODID:-//92.5 the River - ECPv5.16.3.1//NONSGML v1.0//EN
CALSCALE:GREGORIAN
METHOD:PUBLISH
X-WR-CALNAME:92.5 the River
X-ORIGINAL-URL:https://theriverboston.com
X-WR-CALDESC:Events for 92.5 the River
BEGIN:VTIMEZONE
TZID:America/New_York
BEGIN:DAYLIGHT
TZOFFSETFROM:-0500
TZOFFSETTO:-0400
TZNAME:EDT
DTSTART:20150308T070000
END:DAYLIGHT
BEGIN:STANDARD
TZOFFSETFROM:-0400
TZOFFSETTO:-0500
TZNAME:EST
DTSTART:20151101T060000
END:STANDARD
END:VTIMEZONE
BEGIN:VEVENT
DTSTART;TZID=America/New_York:20150816T060000
DTEND;TZID=America/New_York:20150816T213000
DTSTAMP:20260420T032509
CREATED:20150804T165810Z
LAST-MODIFIED:20150804T165810Z
UID:8105-1439704800-1439760600@theriverboston.com
SUMMARY:The River Presents: OAR at The Ballroom
DESCRIPTION:The River Presents: OAR\n\nThe River Presents OAR at the Casino Ballroom at Hampton Beach! Come listen to them rock out on their eighth studio album\, THE ROCKVILLE LP. this shape-shifting rock band found that returning home triggered a journey of creative renewal and inspiration. \nDetails \nWhen: Sunday\, August 16 \nWhere: Casino Ballroom\, Hampton Beach NH \n7pm  \n*Doors open at 6
URL:https://theriverboston.com/events/the-river-presents-oar-at-the-ballroom/
LOCATION:Casino Ballroom\, 169 Ocean Boulevard\, Hampton\, NH\, 03842\, United States
END:VEVENT
END:VCALENDAR