BEGIN:VCALENDAR
VERSION:2.0
PRODID:-//92.5 the River - ECPv5.16.3.1//NONSGML v1.0//EN
CALSCALE:GREGORIAN
METHOD:PUBLISH
X-WR-CALNAME:92.5 the River
X-ORIGINAL-URL:https://theriverboston.com
X-WR-CALDESC:Events for 92.5 the River
BEGIN:VTIMEZONE
TZID:America/New_York
BEGIN:DAYLIGHT
TZOFFSETFROM:-0500
TZOFFSETTO:-0400
TZNAME:EDT
DTSTART:20180311T070000
END:DAYLIGHT
BEGIN:STANDARD
TZOFFSETFROM:-0400
TZOFFSETTO:-0500
TZNAME:EST
DTSTART:20181104T060000
END:STANDARD
END:VTIMEZONE
BEGIN:VEVENT
DTSTART;TZID=America/New_York:20180805T190000
DTEND;TZID=America/New_York:20180805T230000
DTSTAMP:20260420T194817
CREATED:20180522T175124Z
LAST-MODIFIED:20180531T134806Z
UID:85647-1533495600-1533510000@theriverboston.com
SUMMARY:Pat Metheny At Prescott Park Arts Festival
DESCRIPTION:Pat Metheny At Prescott Park Arts Festival\nThroughout his career\, Pat Metheny has continued to redefine the genre by utilizing new technology and constantly working to evolve the improvisational and sonic potential of his instrument. \nMetheny’s versatility is nearly without peer on any instrument. Over the years\, he has performed with artists as diverse as Steve Reich to Ornette Coleman to Herbie Hancock to Jim Hall to Milton Nascimento to David Bowie. \nMetheny’s body of work includes compositions for solo guitar\, small ensembles\, electric and acoustic instruments\, large orchestras\, and ballet pieces and even the robotic instruments of his Orchestrion project\, while always sidestepping the limits of any one genre. \nCome see Pat Metheny on August 5th at 7:00 pm! This is a free show but you can reserve a table on the venue’s website. It is going to be a great show and we hope to see you there!
URL:https://theriverboston.com/events/the-river-presents-pat-metheny-at-prescott-park/
LOCATION:Prescott Park\, 105 Marcy Street\, Portsmouth\, NH\, 03801\, United States
ORGANIZER;CN="Prescott%20Park":MAILTO:hello@prescottpark.org
END:VEVENT
END:VCALENDAR