BEGIN:VCALENDAR
VERSION:2.0
PRODID:-//92.5 the River - ECPv5.16.3.1//NONSGML v1.0//EN
CALSCALE:GREGORIAN
METHOD:PUBLISH
X-WR-CALNAME:92.5 the River
X-ORIGINAL-URL:https://theriverboston.com
X-WR-CALDESC:Events for 92.5 the River
BEGIN:VTIMEZONE
TZID:America/New_York
BEGIN:DAYLIGHT
TZOFFSETFROM:-0500
TZOFFSETTO:-0400
TZNAME:EDT
DTSTART:20180311T070000
END:DAYLIGHT
BEGIN:STANDARD
TZOFFSETFROM:-0400
TZOFFSETTO:-0500
TZNAME:EST
DTSTART:20181104T060000
END:STANDARD
END:VTIMEZONE
BEGIN:VEVENT
DTSTART;TZID=America/New_York:20180901T190000
DTEND;TZID=America/New_York:20180901T230000
DTSTAMP:20260422T152253
CREATED:20180522T152226Z
LAST-MODIFIED:20180522T210342Z
UID:85622-1535828400-1535842800@theriverboston.com
SUMMARY:Steve Earle at Prescott Park Arts Festival
DESCRIPTION:Steve Earle at Prescott Park Arts Festival\nThe much beloved troubadour and multiple-Grammy Award winner returns to Prescott Park! A protege of Townes Van Zandt and Guy Clark\, Steve Earle quickly became a master storyteller in his own right\, penning songs that would be recorded by Johnny Cash\, Willie Nelson\, Waylon Jennings\, Travis Tritt\, Joan Baez and countless others. \nCome see Steve Earle on September 1st at 7:00 pm! This is a free show but you can reserve a table on the venue’s website.
URL:https://theriverboston.com/events/the-river-presents-steve-earle-at-prescott-park/
LOCATION:Prescott Park\, 105 Marcy Street\, Portsmouth\, NH\, 03801\, United States
ORGANIZER;CN="Prescott%20Park":MAILTO:hello@prescottpark.org
END:VEVENT
END:VCALENDAR