BEGIN:VCALENDAR
VERSION:2.0
PRODID:-//92.5 the River - ECPv5.16.3.1//NONSGML v1.0//EN
CALSCALE:GREGORIAN
METHOD:PUBLISH
X-WR-CALNAME:92.5 the River
X-ORIGINAL-URL:https://theriverboston.com
X-WR-CALDESC:Events for 92.5 the River
BEGIN:VTIMEZONE
TZID:America/New_York
BEGIN:DAYLIGHT
TZOFFSETFROM:-0500
TZOFFSETTO:-0400
TZNAME:EDT
DTSTART:20190310T070000
END:DAYLIGHT
BEGIN:STANDARD
TZOFFSETFROM:-0400
TZOFFSETTO:-0500
TZNAME:EST
DTSTART:20191103T060000
END:STANDARD
END:VTIMEZONE
BEGIN:VEVENT
DTSTART;TZID=America/New_York:20191206T200000
DTEND;TZID=America/New_York:20191206T200000
DTSTAMP:20260423T132502
CREATED:20191021T191712Z
LAST-MODIFIED:20191105T200929Z
UID:210872-1575662400-1575662400@theriverboston.com
SUMMARY:The River Presents: Tall Heights!
DESCRIPTION:Tall Heights is coming to town!\nSee Tall Heights at Arts at the Armory! The Boston locals will be performing in Somerville with Berklee acappella group\, Upper Structure. This is an all ages show. Get tickets now! \nEnter To Win Now Through 11/10 On Our Tickets & Exclusive Offers Page!
URL:https://theriverboston.com/events/the-river-presents-tall-heights/
LOCATION:Arts at the Armory\, 191 Highland Ave\, Somerville\, MA\, 02143\, United States
END:VEVENT
END:VCALENDAR