BEGIN:VCALENDAR
VERSION:2.0
PRODID:-//92.5 the River - ECPv5.16.3.1//NONSGML v1.0//EN
CALSCALE:GREGORIAN
METHOD:PUBLISH
X-WR-CALNAME:92.5 the River
X-ORIGINAL-URL:https://theriverboston.com
X-WR-CALDESC:Events for 92.5 the River
BEGIN:VTIMEZONE
TZID:America/New_York
BEGIN:DAYLIGHT
TZOFFSETFROM:-0500
TZOFFSETTO:-0400
TZNAME:EDT
DTSTART:20210314T070000
END:DAYLIGHT
BEGIN:STANDARD
TZOFFSETFROM:-0400
TZOFFSETTO:-0500
TZNAME:EST
DTSTART:20211107T060000
END:STANDARD
END:VTIMEZONE
BEGIN:VEVENT
DTSTART;TZID=America/New_York:20211114T190000
DTEND;TZID=America/New_York:20211114T190000
DTSTAMP:20260420T105832
CREATED:20210603T110534Z
LAST-MODIFIED:20210603T110534Z
UID:213680-1636916400-1636916400@theriverboston.com
SUMMARY:The River Presents The Psychedelic Furs at The Cabot
DESCRIPTION:Don’t miss The Psychedelic Furs Live in Beverly\nDoors open at 6 PM. \nFrom its exhilarating opening bars\, “Made Of Rain” – the first Psychedelic Furs album in 29 years – sounds like them and them alone. It’s a joy to hear again\, fresher than ever\, that unique mesh of sounds and layers\, that fusion of smooth and stark\, of restraint and abandon\, of melancholy and rage\, of optimism and nihilism\, of tough and tender. READ MORE. \nClick For All Things Psychedelic Furs | Facebook | Twitter | Instagram
URL:https://theriverboston.com/events/the-river-presents-the-psychedelic-furs-at-the-cabot/
LOCATION:THE CABOT\, 286 Cabot Street\, Beverly\, MA\, 01915\, United States
END:VEVENT
END:VCALENDAR