BEGIN:VCALENDAR
VERSION:2.0
PRODID:-//92.5 the River - ECPv5.16.3.1//NONSGML v1.0//EN
CALSCALE:GREGORIAN
METHOD:PUBLISH
X-WR-CALNAME:92.5 the River
X-ORIGINAL-URL:https://theriverboston.com
X-WR-CALDESC:Events for 92.5 the River
BEGIN:VTIMEZONE
TZID:America/New_York
BEGIN:DAYLIGHT
TZOFFSETFROM:-0500
TZOFFSETTO:-0400
TZNAME:EDT
DTSTART:20200308T070000
END:DAYLIGHT
BEGIN:STANDARD
TZOFFSETFROM:-0400
TZOFFSETTO:-0500
TZNAME:EST
DTSTART:20201101T060000
END:STANDARD
END:VTIMEZONE
BEGIN:VEVENT
DTSTART;TZID=America/New_York:20200116T160000
DTEND;TZID=America/New_York:20200116T180000
DTSTAMP:20260423T160612
CREATED:20200113T190650Z
LAST-MODIFIED:20200113T190650Z
UID:211516-1579190400-1579197600@theriverboston.com
SUMMARY:The River Roadies at Planet Fitness
DESCRIPTION:The River Roadies are coming to Planet Fitness!\nStop by Planet Fitness in Haverhill Thursday\, 1/16 between 4-6PM to catch the River Roadies! Spin the prize wheel\, play some games\, and enter for a chance to win tickets to see Matchbox Twenty at the Xfinity Center! Can’t make it out but still want to win tickets? Check out our tickets and exclusive offers page.
URL:https://theriverboston.com/events/the-river-roadies-at-planet-fitness-2/
LOCATION:Planet Fitness Haverhill\, 371 Lowell Ave\, Haverhill\, MA\, 01832\, United States
END:VEVENT
END:VCALENDAR