BEGIN:VCALENDAR
VERSION:2.0
PRODID:-//92.5 the River - ECPv5.16.3.1//NONSGML v1.0//EN
CALSCALE:GREGORIAN
METHOD:PUBLISH
X-WR-CALNAME:92.5 the River
X-ORIGINAL-URL:https://theriverboston.com
X-WR-CALDESC:Events for 92.5 the River
BEGIN:VTIMEZONE
TZID:America/New_York
BEGIN:DAYLIGHT
TZOFFSETFROM:-0500
TZOFFSETTO:-0400
TZNAME:EDT
DTSTART:20180311T070000
END:DAYLIGHT
BEGIN:STANDARD
TZOFFSETFROM:-0400
TZOFFSETTO:-0500
TZNAME:EST
DTSTART:20181104T060000
END:STANDARD
END:VTIMEZONE
BEGIN:VEVENT
DTSTART;TZID=America/New_York:20180913T150000
DTEND;TZID=America/New_York:20180913T220000
DTSTAMP:20260423T040350
CREATED:20180910T161343Z
LAST-MODIFIED:20180910T162401Z
UID:199673-1536850800-1536876000@theriverboston.com
SUMMARY:The Seacoast Extreme Country Fair
DESCRIPTION:Hold on tight for the first annual Seacoast Country Fair\, the newest and most EXTREME fair to ever hit New England! The excitement begins September 13th at the premier New England Dragway in Epping\, NH and runs through Sunday September 16th! Tickets and complete schedule available now!
URL:https://theriverboston.com/events/the-seacoast-extreme-country-fair/
LOCATION:New England Dragway\, 280 Exeter Rd\, Epping\, NH\, 03042\, United States
ORGANIZER;CN="Seacoast%20Fairs":MAILTO:SeacoastCountryFair@gmail.com
END:VEVENT
END:VCALENDAR