BEGIN:VCALENDAR
VERSION:2.0
PRODID:-//92.5 the River - ECPv5.16.3.1//NONSGML v1.0//EN
CALSCALE:GREGORIAN
METHOD:PUBLISH
X-WR-CALNAME:92.5 the River
X-ORIGINAL-URL:https://theriverboston.com
X-WR-CALDESC:Events for 92.5 the River
BEGIN:VTIMEZONE
TZID:America/New_York
BEGIN:DAYLIGHT
TZOFFSETFROM:-0500
TZOFFSETTO:-0400
TZNAME:EDT
DTSTART:20180311T070000
END:DAYLIGHT
BEGIN:STANDARD
TZOFFSETFROM:-0400
TZOFFSETTO:-0500
TZNAME:EST
DTSTART:20181104T060000
END:STANDARD
END:VTIMEZONE
BEGIN:VEVENT
DTSTART;TZID=America/New_York:20181116T180000
DTEND;TZID=America/New_York:20181116T220000
DTSTAMP:20260420T043952
CREATED:20181105T163251Z
LAST-MODIFIED:20181105T163442Z
UID:204069-1542391200-1542405600@theriverboston.com
SUMMARY:The Side Door Music Series: Adam Ezra Group
DESCRIPTION:The “Side Door Music Series” is the hip new concert series that brings fresh\, foot-stomping music to the Currier Museum of Art in Manchester\, NH. Each show transforms the museum’s state-of-the-art auditorium into a unique and intimate concert venue. Enter the concert at the ‘Side Door’ of the museum for a speakeasy vibe and grab a drink and dinner in the Currier lounge before the show. \nOn Firday\, November 16th\, you can catch New England Music Award nominee Adam Ezra Group as they light up the stage with opener Muddy Rukus! It’s all happening at the Currier Museum of Art! Tickets start at $25 in advance and $30 at the door!
URL:https://theriverboston.com/events/the-side-door-music-series-adam-ezra-group/
LOCATION:Currier Museum of Art\, 150 Ash Street\, Manchester\, NH\, 03104\, United States
END:VEVENT
END:VCALENDAR