BEGIN:VCALENDAR
VERSION:2.0
PRODID:-//92.5 the River - ECPv5.16.3.1//NONSGML v1.0//EN
CALSCALE:GREGORIAN
METHOD:PUBLISH
X-WR-CALNAME:92.5 the River
X-ORIGINAL-URL:https://theriverboston.com
X-WR-CALDESC:Events for 92.5 the River
BEGIN:VTIMEZONE
TZID:America/New_York
BEGIN:DAYLIGHT
TZOFFSETFROM:-0500
TZOFFSETTO:-0400
TZNAME:EDT
DTSTART:20260308T070000
END:DAYLIGHT
BEGIN:STANDARD
TZOFFSETFROM:-0400
TZOFFSETTO:-0500
TZNAME:EST
DTSTART:20261101T060000
END:STANDARD
END:VTIMEZONE
BEGIN:VEVENT
DTSTART;TZID=America/New_York:20260623T190000
DTEND;TZID=America/New_York:20260623T190000
DTSTAMP:20260419T115344
CREATED:20260414T051148Z
LAST-MODIFIED:20260414T051148Z
UID:230667-1782241200-1782241200@theriverboston.com
SUMMARY:The Strokes @ TD Garden
DESCRIPTION:View Tickets – On Sale Friday April 17 at 10am \nThe Strokes – Reality Awaits Tour\nAfter their first headline set at Coachella since 2011\, The Strokes have announced a summer tour spanning North America\, kicking off June 12. One of the most influential rock bands to come out of the 2000’s\, The Strokes have been said to be\, “as influential to their era as the Velvet Underground or the Ramones were to theirs” (quoted from Lizzy Goodman’s book about the NYC music scene). The new album featuring lead single “Going Shopping” is out June 26th!
URL:https://theriverboston.com/events/the-strokes-td-garden/
LOCATION:TD Garden\, 100 Legends Way\, Boston\, MA\, 02114\, United States
END:VEVENT
END:VCALENDAR