BEGIN:VCALENDAR
VERSION:2.0
PRODID:-//92.5 the River - ECPv5.16.3.1//NONSGML v1.0//EN
CALSCALE:GREGORIAN
METHOD:PUBLISH
X-WR-CALNAME:92.5 the River
X-ORIGINAL-URL:https://theriverboston.com
X-WR-CALDESC:Events for 92.5 the River
BEGIN:VTIMEZONE
TZID:America/New_York
BEGIN:DAYLIGHT
TZOFFSETFROM:-0500
TZOFFSETTO:-0400
TZNAME:EDT
DTSTART:20240310T070000
END:DAYLIGHT
BEGIN:STANDARD
TZOFFSETFROM:-0400
TZOFFSETTO:-0500
TZNAME:EST
DTSTART:20241103T060000
END:STANDARD
END:VTIMEZONE
BEGIN:VEVENT
DTSTART;TZID=America/New_York:20240405T200000
DTEND;TZID=America/New_York:20240405T200000
DTSTAMP:20260425T113702
CREATED:20231103T175310Z
LAST-MODIFIED:20231103T175310Z
UID:221875-1712347200-1712347200@theriverboston.com
SUMMARY:The Strumbellas at The Sinclair
DESCRIPTION:Whether you’re a “part time believer” or a long time fan\, The Strumbellas coming to Boston will be an unforgettable event. In support of their new album\, Part Time Believer\, the tour by the same name will be stopping at The Sinclair! More event info here.
URL:https://theriverboston.com/events/the-strumbellas-at-the-sinclair/
LOCATION:The Sinclair\, 52 Church Street\, Cambridge\, MA\, 02138\, United States
END:VEVENT
END:VCALENDAR