BEGIN:VCALENDAR
VERSION:2.0
PRODID:-//92.5 the River - ECPv5.16.3.1//NONSGML v1.0//EN
CALSCALE:GREGORIAN
METHOD:PUBLISH
X-WR-CALNAME:92.5 the River
X-ORIGINAL-URL:https://theriverboston.com
X-WR-CALDESC:Events for 92.5 the River
BEGIN:VTIMEZONE
TZID:America/New_York
BEGIN:DAYLIGHT
TZOFFSETFROM:-0500
TZOFFSETTO:-0400
TZNAME:EDT
DTSTART:20250309T070000
END:DAYLIGHT
BEGIN:STANDARD
TZOFFSETFROM:-0400
TZOFFSETTO:-0500
TZNAME:EST
DTSTART:20251102T060000
END:STANDARD
END:VTIMEZONE
BEGIN:VEVENT
DTSTART;TZID=America/New_York:20250802T190000
DTEND;TZID=America/New_York:20250802T190000
DTSTAMP:20260422T182559
CREATED:20250724T180635Z
LAST-MODIFIED:20250724T180635Z
UID:228297-1754161200-1754161200@theriverboston.com
SUMMARY:The Struts @ Citizens House Of Blues
DESCRIPTION:The Struts | Saturday\, August 2nd\nCitizens House Of Blues  |  Boston\, MA\nDoors: 7 pm | Show: 8 pm \nUK glam-rockers The Struts are bringing their electrifying 10th‑anniversary celebration of their debut album Everybody Wants to the Citizens House of Blues in Boston on Saturday\, August 2 at 7:00 PM! Expect a high-energy\, theatrical spectacle packed with fan favorites like “Could Have Been Me” and “Body Talks\,” all delivered with the swagger and showmanship that made them a modern glam-rock sensation. \nView tickets here!
URL:https://theriverboston.com/events/the-struts-citizens-house-of-blues/
LOCATION:Citizens House Of Blues\, 15 Lansdowne Street\, Boston\, MA\, 02215\, United States
END:VEVENT
END:VCALENDAR