BEGIN:VCALENDAR
VERSION:2.0
PRODID:-//92.5 the River - ECPv5.16.3.1//NONSGML v1.0//EN
CALSCALE:GREGORIAN
METHOD:PUBLISH
X-WR-CALNAME:92.5 the River
X-ORIGINAL-URL:https://theriverboston.com
X-WR-CALDESC:Events for 92.5 the River
BEGIN:VTIMEZONE
TZID:America/New_York
BEGIN:DAYLIGHT
TZOFFSETFROM:-0500
TZOFFSETTO:-0400
TZNAME:EDT
DTSTART:20220313T070000
END:DAYLIGHT
BEGIN:STANDARD
TZOFFSETFROM:-0400
TZOFFSETTO:-0500
TZNAME:EST
DTSTART:20221106T060000
END:STANDARD
END:VTIMEZONE
BEGIN:VEVENT
DTSTART;TZID=America/New_York:20220304T200000
DTEND;TZID=America/New_York:20220304T200000
DTSTAMP:20260421T041052
CREATED:20210722T181410Z
LAST-MODIFIED:20210722T184028Z
UID:214203-1646424000-1646424000@theriverboston.com
SUMMARY:The Tallest Man On Earth at The Music Hall
DESCRIPTION:Don’t miss The Tallest Man On Earth at The Music Hall!\nConcert starts at 8:00 PM. \nThe Tallest Man On Earth comes to the Historic Theater following the release of his first album in 4 years. When asked for some insight into the album\, Matsson says “Here’s what I can tell you: Of course there are some love songs and then there are some other songs. Making the album I was thinking a lot about the lenses we view our lives through and that\, for some reason\, our worst tendencies seem to be carried out so loudly\, while our best can go unnoticed. I’ve come to realize that some of the most powerful\, most inspiring moments in my life have been the most subtle and that so often the thing that deserves my attention\, is trying the least to get it.” READ MORE. \nPURCHASE TICKETS HERE. \nStay up to date with The Tallest Man On Earth!\nFacebook | Instagram | Twitter
URL:https://theriverboston.com/events/the-tallest-man-on-earth-at-the-music-hall-3/
LOCATION:The Music Hall\, 28 Chestnut Street\, Portsmouth\, NH\, 03801\, United States
END:VEVENT
END:VCALENDAR