BEGIN:VCALENDAR
VERSION:2.0
PRODID:-//92.5 the River - ECPv5.16.3.1//NONSGML v1.0//EN
CALSCALE:GREGORIAN
METHOD:PUBLISH
X-WR-CALNAME:92.5 the River
X-ORIGINAL-URL:https://theriverboston.com
X-WR-CALDESC:Events for 92.5 the River
BEGIN:VTIMEZONE
TZID:America/New_York
BEGIN:DAYLIGHT
TZOFFSETFROM:-0500
TZOFFSETTO:-0400
TZNAME:EDT
DTSTART:20200308T070000
END:DAYLIGHT
BEGIN:STANDARD
TZOFFSETFROM:-0400
TZOFFSETTO:-0500
TZNAME:EST
DTSTART:20201101T060000
END:STANDARD
END:VTIMEZONE
BEGIN:VEVENT
DTSTART;TZID=America/New_York:20200510T190000
DTEND;TZID=America/New_York:20200510T190000
DTSTAMP:20260419T190331
CREATED:20191212T211338Z
LAST-MODIFIED:20200325T201937Z
UID:211366-1589137200-1589137200@theriverboston.com
SUMMARY:POSTPONED: The Tallest Man On Earth at The Music Hall
DESCRIPTION:The Tallest Man On Earth’s show at The Music Hall has been postponed.\nThis show has been rescheduled for Sunday\, March 7 2021 due to the COVID-19 pandemic. Click here for more information and updates.
URL:https://theriverboston.com/events/the-tallest-man-on-earth-at-the-music-hall/
LOCATION:The Music Hall\, 28 Chestnut Street\, Portsmouth\, NH\, 03801\, United States
END:VEVENT
END:VCALENDAR