BEGIN:VCALENDAR
VERSION:2.0
PRODID:-//92.5 the River - ECPv5.16.3.1//NONSGML v1.0//EN
CALSCALE:GREGORIAN
METHOD:PUBLISH
X-WR-CALNAME:92.5 the River
X-ORIGINAL-URL:https://theriverboston.com
X-WR-CALDESC:Events for 92.5 the River
BEGIN:VTIMEZONE
TZID:America/New_York
BEGIN:DAYLIGHT
TZOFFSETFROM:-0500
TZOFFSETTO:-0400
TZNAME:EDT
DTSTART:20200308T070000
END:DAYLIGHT
BEGIN:STANDARD
TZOFFSETFROM:-0400
TZOFFSETTO:-0500
TZNAME:EST
DTSTART:20201101T060000
END:STANDARD
END:VTIMEZONE
BEGIN:VEVENT
DTSTART;TZID=America/New_York:20200425T200000
DTEND;TZID=America/New_York:20200425T230000
DTSTAMP:20260420T023043
CREATED:20200206T174936Z
LAST-MODIFIED:20200325T200738Z
UID:211759-1587844800-1587855600@theriverboston.com
SUMMARY:POSTPONED: The Unlikely Candidates At Blue Ocean Music Hall
DESCRIPTION:The Unlikely Candidates’ show at Ocean Blue Music Hall has been postponed for a later date. Click here for more information and updates about this show. \nAmerican indie-rockers The Unlikely Candidates are coming to the Blue Ocean Music Hall! The Texas natives are quickly growing in popularity thanks to their latest single\, “Novocaine“\, which has received over 10 million streams! Their tour begins in late February\, but they’ll be at the Blue Ocean in Salisbury on Saturday\, April 25th! Tickets are on sale now\, so don’t miss your chance to catch these rising stars live in concert!
URL:https://theriverboston.com/events/the-unlikely-candidates-at-blue-ocean-music-hall/
LOCATION:Blue Ocean Music Hall\, 4 Oceanfront North\, Salisbury\, MA\, 01952\, United States
END:VEVENT
END:VCALENDAR