BEGIN:VCALENDAR
VERSION:2.0
PRODID:-//92.5 the River - ECPv5.16.3.1//NONSGML v1.0//EN
CALSCALE:GREGORIAN
METHOD:PUBLISH
X-WR-CALNAME:92.5 the River
X-ORIGINAL-URL:https://theriverboston.com
X-WR-CALDESC:Events for 92.5 the River
BEGIN:VTIMEZONE
TZID:America/New_York
BEGIN:DAYLIGHT
TZOFFSETFROM:-0500
TZOFFSETTO:-0400
TZNAME:EDT
DTSTART:20160313T070000
END:DAYLIGHT
BEGIN:STANDARD
TZOFFSETFROM:-0400
TZOFFSETTO:-0500
TZNAME:EST
DTSTART:20161106T060000
END:STANDARD
END:VTIMEZONE
BEGIN:VEVENT
DTSTART;TZID=America/New_York:20161029T200000
DTEND;TZID=America/New_York:20161029T200000
DTSTAMP:20260423T210627
CREATED:20161018T152151Z
LAST-MODIFIED:20161018T152151Z
UID:23749-1477771200-1477771200@theriverboston.com
SUMMARY:The Wailers performing with Destroy Babylon @ The Casino Ballroom
DESCRIPTION:The Wailers\n&\nDestroy Babylon\n\nThe Wailers and Destroy Babylon will be playing at the Casino Ballroom on Saturday\, October 29th at 8:00pm\, doors open at 6:00pm. Get tickets(18+ event) to see this legendary band playing music from numerous decades!
URL:https://theriverboston.com/events/the-wailers-destroy-babylon-casino-ballroom/
LOCATION:Casino Ballroom\, 169 Ocean Boulevard\, Hampton\, NH\, 03842\, United States
END:VEVENT
END:VCALENDAR