BEGIN:VCALENDAR
VERSION:2.0
PRODID:-//92.5 the River - ECPv5.16.3.1//NONSGML v1.0//EN
CALSCALE:GREGORIAN
METHOD:PUBLISH
X-WR-CALNAME:92.5 the River
X-ORIGINAL-URL:https://theriverboston.com
X-WR-CALDESC:Events for 92.5 the River
BEGIN:VTIMEZONE
TZID:America/New_York
BEGIN:DAYLIGHT
TZOFFSETFROM:-0500
TZOFFSETTO:-0400
TZNAME:EDT
DTSTART:20180311T070000
END:DAYLIGHT
BEGIN:STANDARD
TZOFFSETFROM:-0400
TZOFFSETTO:-0500
TZNAME:EST
DTSTART:20181104T060000
END:STANDARD
END:VTIMEZONE
BEGIN:VEVENT
DTSTART;TZID=America/New_York:20181214T080000
DTEND;TZID=America/New_York:20181216T170000
DTSTAMP:20260419T101711
CREATED:20181121T171049Z
LAST-MODIFIED:20181127T184654Z
UID:204937-1544774400-1544979600@theriverboston.com
SUMMARY:THE WINTERWONDERGRASS MUSIC AND BREW FESTIVAL
DESCRIPTION:The WinterWondergrass Music and Brew Festival heads to Stratton Mountain Resort\, December 14th through 16th! It will feature over 20 Bluegrass and Roots artists in three large heated beer halls and one outdoor main stage! You can catch RAILROAD EARTH\, THE INFAMOUS STRINGDUSTERS\, KELLER WILLIAMS AND THE KEELS\, GHOST OF PAUL REVERE and many more bands over three days. Listed as one of nine “Can’t Miss Winter Festivals” worldwide\, WinterWondergrass  is one event you shouldn’t miss! Experience wonderful music\, craft beer\, and fresh eats at Stratton Mountain Resort! \nGeneral admission and VIP tickets are on sale now!
URL:https://theriverboston.com/events/the-winterwondergrass-music-and-brew-festival/
END:VEVENT
END:VCALENDAR