BEGIN:VCALENDAR
VERSION:2.0
PRODID:-//92.5 the River - ECPv5.16.3.1//NONSGML v1.0//EN
CALSCALE:GREGORIAN
METHOD:PUBLISH
X-WR-CALNAME:92.5 the River
X-ORIGINAL-URL:https://theriverboston.com
X-WR-CALDESC:Events for 92.5 the River
BEGIN:VTIMEZONE
TZID:America/New_York
BEGIN:DAYLIGHT
TZOFFSETFROM:-0500
TZOFFSETTO:-0400
TZNAME:EDT
DTSTART:20250309T070000
END:DAYLIGHT
BEGIN:STANDARD
TZOFFSETFROM:-0400
TZOFFSETTO:-0500
TZNAME:EST
DTSTART:20251102T060000
END:STANDARD
END:VTIMEZONE
BEGIN:VEVENT
DTSTART;TZID=America/New_York:20250711T191500
DTEND;TZID=America/New_York:20250711T191500
DTSTAMP:20260419T083805
CREATED:20250702T170149Z
LAST-MODIFIED:20250702T170149Z
UID:227968-1752261300-1752261300@theriverboston.com
SUMMARY:The Zombies: Hung Up On A Dream @ Somerville Theatre
DESCRIPTION:The Zombies: Hung Up On A Dream | Friday\, July 11th \nShow: 7:15 pm \nThe Zombies were a psychedelic-pop tour-de-force finding great success in both England and America with hits like “Time of the Season” and “She’s Not There”.  Now\, join Colin Blunstone\, The Zombies’ lead singer\, and Rooney for an unplugged set that accompanies the film Hung Up On A Dream at Somerville Theatre.  Experience rare archival footage and brand new interviews that chronicle how a group of experimental\, creative\, and perseverant teenagers formed a British Invasion band worthy of the Rock and Roll Hall of Fame.  You won’t want to miss this one night only event! \nGet tickets here!
URL:https://theriverboston.com/events/the-zombies-somerville/
LOCATION:Somerville Theatre\, 55 Davis Square\, Somerville\, MA\, 02144\, United States
END:VEVENT
END:VCALENDAR