BEGIN:VCALENDAR
VERSION:2.0
PRODID:-//92.5 the River - ECPv5.16.3.1//NONSGML v1.0//EN
CALSCALE:GREGORIAN
METHOD:PUBLISH
X-WR-CALNAME:92.5 the River
X-ORIGINAL-URL:https://theriverboston.com
X-WR-CALDESC:Events for 92.5 the River
BEGIN:VTIMEZONE
TZID:America/New_York
BEGIN:DAYLIGHT
TZOFFSETFROM:-0500
TZOFFSETTO:-0400
TZNAME:EDT
DTSTART:20240310T070000
END:DAYLIGHT
BEGIN:STANDARD
TZOFFSETFROM:-0400
TZOFFSETTO:-0500
TZNAME:EST
DTSTART:20241103T060000
END:STANDARD
END:VTIMEZONE
BEGIN:VEVENT
DTSTART;TZID=America/New_York:20241110T200000
DTEND;TZID=America/New_York:20241110T200000
DTSTAMP:20260419T200225
CREATED:20241105T211917Z
LAST-MODIFIED:20241105T211928Z
UID:225493-1731268800-1731268800@theriverboston.com
SUMMARY:Thee Sacred Souls @ Roadrunner
DESCRIPTION:The highly anticipated follow-up to their breakout 2022 self-titled debut\, Thee Sacred Souls have just released their sophomore album\, Got A Story To Tell. Since 2022\, Thee Sacred Souls have toured North America and Europe\, playing their sweet soul music at dozens and dozens of sold-out shows\, and in the process they went from young up-and-coming musicians to a band who knew each other like family. See them live at Roadrunner\, grab your tickets today.
URL:https://theriverboston.com/events/thee-sacred-souls-roadrunner/
LOCATION:Roadrunner\, 89 Guest Street\, Boston\, MA\, 02135\, United States
END:VEVENT
END:VCALENDAR