BEGIN:VCALENDAR
VERSION:2.0
PRODID:-//92.5 the River - ECPv5.16.3.1//NONSGML v1.0//EN
CALSCALE:GREGORIAN
METHOD:PUBLISH
X-WR-CALNAME:92.5 the River
X-ORIGINAL-URL:https://theriverboston.com
X-WR-CALDESC:Events for 92.5 the River
BEGIN:VTIMEZONE
TZID:America/New_York
BEGIN:DAYLIGHT
TZOFFSETFROM:-0500
TZOFFSETTO:-0400
TZNAME:EDT
DTSTART:20180311T070000
END:DAYLIGHT
BEGIN:STANDARD
TZOFFSETFROM:-0400
TZOFFSETTO:-0500
TZNAME:EST
DTSTART:20181104T060000
END:STANDARD
END:VTIMEZONE
BEGIN:VEVENT
DTSTART;TZID=America/New_York:20180725T193000
DTEND;TZID=America/New_York:20180725T230000
DTSTAMP:20260419T212643
CREATED:20180724T151805Z
LAST-MODIFIED:20180724T151805Z
UID:108694-1532547000-1532559600@theriverboston.com
SUMMARY:Tinariwen @ The Music Hall!
DESCRIPTION:Come see Tinariwen at The Music Hall on Wednesday\, July 25th!\nTinariwen are coming to the Music Hall on Wednesday\, July 25th at 7:30pm! You can purchase tickets here.
URL:https://theriverboston.com/events/tinariwen-the-music-hall/
LOCATION:The Music Hall\, 28 Chestnut Street\, Portsmouth\, NH\, 03801\, United States
END:VEVENT
END:VCALENDAR