BEGIN:VCALENDAR
VERSION:2.0
PRODID:-//92.5 the River - ECPv5.16.3.1//NONSGML v1.0//EN
CALSCALE:GREGORIAN
METHOD:PUBLISH
X-WR-CALNAME:92.5 the River
X-ORIGINAL-URL:https://theriverboston.com
X-WR-CALDESC:Events for 92.5 the River
BEGIN:VTIMEZONE
TZID:America/New_York
BEGIN:DAYLIGHT
TZOFFSETFROM:-0500
TZOFFSETTO:-0400
TZNAME:EDT
DTSTART:20180311T070000
END:DAYLIGHT
BEGIN:STANDARD
TZOFFSETFROM:-0400
TZOFFSETTO:-0500
TZNAME:EST
DTSTART:20181104T060000
END:STANDARD
END:VTIMEZONE
BEGIN:VEVENT
DTSTART;TZID=America/New_York:20180824T130000
DTEND;TZID=America/New_York:20180824T150000
DTSTAMP:20260422T033956
CREATED:20180803T212521Z
LAST-MODIFIED:20180803T212636Z
UID:111497-1535115600-1535122800@theriverboston.com
SUMMARY:Tito's Vodka Night
DESCRIPTION:Tito’s Vodka Bar Night\nGet ready for this year’s Riverfront Music Festival with us and Tito’s Handmade Vodka! Join us at The Deck in Salisbury\, MA for a few hours of fun and drinks! The River Roadies will be handing out one pair of VIP tickets to this year’s festival\, as well as playing some awesome tunes all afternoon.
URL:https://theriverboston.com/events/titos-vodka-night/
LOCATION:Sea Catch\, 179 Bridge Rd\, Salisbury\, MA\, 01952\, United States
END:VEVENT
END:VCALENDAR