BEGIN:VCALENDAR
VERSION:2.0
PRODID:-//92.5 the River - ECPv5.16.3.1//NONSGML v1.0//EN
CALSCALE:GREGORIAN
METHOD:PUBLISH
X-WR-CALNAME:92.5 the River
X-ORIGINAL-URL:https://theriverboston.com
X-WR-CALDESC:Events for 92.5 the River
BEGIN:VTIMEZONE
TZID:America/New_York
BEGIN:DAYLIGHT
TZOFFSETFROM:-0500
TZOFFSETTO:-0400
TZNAME:EDT
DTSTART:20190310T070000
END:DAYLIGHT
BEGIN:STANDARD
TZOFFSETFROM:-0400
TZOFFSETTO:-0500
TZNAME:EST
DTSTART:20191103T060000
END:STANDARD
END:VTIMEZONE
BEGIN:VEVENT
DTSTART;TZID=America/New_York:20190524T193000
DTEND;TZID=America/New_York:20190524T193000
DTSTAMP:20260419T225621
CREATED:20190412T140235Z
LAST-MODIFIED:20190513T153933Z
UID:208186-1558726200-1558726200@theriverboston.com
SUMMARY:Tom Rush & Jonathan Edwards at Cary Hall!
DESCRIPTION:Tom Rush & Jonathan Edwards are coming to Lexington!\nCome see two brilliant folk performers bring humor\, warm expression\, and passion together for a memorable performance! \nTickets are on sale now but you can win tickets now through May 19th\, at midnight! \n  \nPresented by:
URL:https://theriverboston.com/events/tom-rush-jonathan-edwards-at-cary-hall/
LOCATION:Cary Hall\, 1605 Massachusetts Ave\, Lexington\, MA\, 02420\, United States
ORGANIZER;CN="Spectacle%20Management":MAILTO:info@spectaclemanagement.net
END:VEVENT
END:VCALENDAR