BEGIN:VCALENDAR
VERSION:2.0
PRODID:-//92.5 the River - ECPv5.16.3.1//NONSGML v1.0//EN
CALSCALE:GREGORIAN
METHOD:PUBLISH
X-WR-CALNAME:92.5 the River
X-ORIGINAL-URL:https://theriverboston.com
X-WR-CALDESC:Events for 92.5 the River
BEGIN:VTIMEZONE
TZID:America/New_York
BEGIN:DAYLIGHT
TZOFFSETFROM:-0500
TZOFFSETTO:-0400
TZNAME:EDT
DTSTART:20190310T070000
END:DAYLIGHT
BEGIN:STANDARD
TZOFFSETFROM:-0400
TZOFFSETTO:-0500
TZNAME:EST
DTSTART:20191103T060000
END:STANDARD
END:VTIMEZONE
BEGIN:VEVENT
DTSTART;VALUE=DATE:20190920
DTEND;VALUE=DATE:20190921
DTSTAMP:20260423T225912
CREATED:20190621T185328Z
LAST-MODIFIED:20190828T143920Z
UID:209481-1568937600-1569023999@theriverboston.com
SUMMARY:Tom Stoppard's Rosencrantz & Guildenstern Are Dead is coming to the Huntington Theatre Company
DESCRIPTION:Tom Stoppard’s Tony Award-winning Best Play arrives in a marvelously funny\, spectacularly beautiful new production. This modern-day classic tragicomedy imagines the lives of two minor characters from Shakespeare’s Hamlet\, Rosencrantz and Guildenstern. As the story unfolds\, they voice their confusion about the play that’s being performed without them\, untangling bigger questions about life and death\, reality and art. \nThe show runs September 20th-October 20th at the Huntington Theatre Company. Find tickets here!
URL:https://theriverboston.com/events/tom-stoppards-rosencrantz-guildenstern-are-dead-is-coming-to-the-huntington-theatre-company/
LOCATION:Huntington Theatre Company\, 264 Huntington Avenue\, Boston\, MA\, 02115\, United States
END:VEVENT
END:VCALENDAR