BEGIN:VCALENDAR
VERSION:2.0
PRODID:-//92.5 the River - ECPv5.16.3.1//NONSGML v1.0//EN
CALSCALE:GREGORIAN
METHOD:PUBLISH
X-WR-CALNAME:92.5 the River
X-ORIGINAL-URL:https://theriverboston.com
X-WR-CALDESC:Events for 92.5 the River
BEGIN:VTIMEZONE
TZID:America/New_York
BEGIN:DAYLIGHT
TZOFFSETFROM:-0500
TZOFFSETTO:-0400
TZNAME:EDT
DTSTART:20160313T070000
END:DAYLIGHT
BEGIN:STANDARD
TZOFFSETFROM:-0400
TZOFFSETTO:-0500
TZNAME:EST
DTSTART:20161106T060000
END:STANDARD
END:VTIMEZONE
BEGIN:VEVENT
DTSTART;TZID=America/New_York:20160827T110000
DTEND;TZID=America/New_York:20160827T130000
DTSTAMP:20260420T135737
CREATED:20160823T141229Z
LAST-MODIFIED:20160823T141229Z
UID:19392-1472295600-1472302800@theriverboston.com
SUMMARY:Toyota Of Nashua
DESCRIPTION:The River will  be at Toyota of Nashua at 11am raffling off tickets to The B52’s. The B52’s will be performing LIVE at Boarding House Park on September 3rd part of the Lowell Summer Music Series.
URL:https://theriverboston.com/events/toyota-of-nashua-2/
LOCATION:Toyota of Nashua\, 10 Marmon Dr\, Nashua\, NH\, 03060\, United States
ORGANIZER;CN="92.5%20the%20River":MAILTO:promotions@wxrv.com
END:VEVENT
END:VCALENDAR