BEGIN:VCALENDAR
VERSION:2.0
PRODID:-//92.5 the River - ECPv5.16.3.1//NONSGML v1.0//EN
CALSCALE:GREGORIAN
METHOD:PUBLISH
X-WR-CALNAME:92.5 the River
X-ORIGINAL-URL:https://theriverboston.com
X-WR-CALDESC:Events for 92.5 the River
BEGIN:VTIMEZONE
TZID:America/New_York
BEGIN:DAYLIGHT
TZOFFSETFROM:-0500
TZOFFSETTO:-0400
TZNAME:EDT
DTSTART:20150308T070000
END:DAYLIGHT
BEGIN:STANDARD
TZOFFSETFROM:-0400
TZOFFSETTO:-0500
TZNAME:EST
DTSTART:20151101T060000
END:STANDARD
END:VTIMEZONE
BEGIN:VEVENT
DTSTART;TZID=America/New_York:20150815T130000
DTEND;TZID=America/New_York:20150815T150000
DTSTAMP:20260420T050132
CREATED:20150804T164818Z
LAST-MODIFIED:20150804T164818Z
UID:8103-1439643600-1439650800@theriverboston.com
SUMMARY:Toyota of Nashua
DESCRIPTION:Come join The River Team at Toyota of Nashua \n\nDetails \nWhere: Toyota of Nashua\, Nashua NH \nWhen: Saturday\, August 15th \n1-3pm
URL:https://theriverboston.com/events/toyota-of-nashua/
LOCATION:Toyota of Nashua\, 10 Marmon Dr\, Nashua\, NH\, 03060\, United States
END:VEVENT
END:VCALENDAR