BEGIN:VCALENDAR
VERSION:2.0
PRODID:-//92.5 the River - ECPv5.16.3.1//NONSGML v1.0//EN
CALSCALE:GREGORIAN
METHOD:PUBLISH
X-WR-CALNAME:92.5 the River
X-ORIGINAL-URL:https://theriverboston.com
X-WR-CALDESC:Events for 92.5 the River
BEGIN:VTIMEZONE
TZID:America/New_York
BEGIN:DAYLIGHT
TZOFFSETFROM:-0500
TZOFFSETTO:-0400
TZNAME:EDT
DTSTART:20260308T070000
END:DAYLIGHT
BEGIN:STANDARD
TZOFFSETFROM:-0400
TZOFFSETTO:-0500
TZNAME:EST
DTSTART:20261101T060000
END:STANDARD
END:VTIMEZONE
BEGIN:VEVENT
DTSTART;TZID=America/New_York:20260725T080000
DTEND;TZID=America/New_York:20260725T170000
DTSTAMP:20260424T214728
CREATED:20251112T172608Z
LAST-MODIFIED:20251112T172608Z
UID:229518-1784966400-1784998800@theriverboston.com
SUMMARY:Train @ Xfinity Center
DESCRIPTION:Train  | Xfinity Center  \nDoors: 5:30PM  | Show: 6:45PM \nA concert bill made for River listeners… \nThe “Drops of Jupiter: 25 Years in the Atmosphere” tour will celebrate the anniversary of the Grammy-winning band Train’s record-breaking second album\, Drops of Jupiter. Opening the show\, our Canadian Music Hall of Fame friends from Barenaked Ladies\, and singer songwriter Matt Nathanson. \n\nGet Tickets Here
URL:https://theriverboston.com/events/train-xfinity-center-2/
LOCATION:Xfinity Center\, 885 S Main St\, Mansfield \, MA\, 02048\, United States
END:VEVENT
END:VCALENDAR