BEGIN:VCALENDAR
VERSION:2.0
PRODID:-//92.5 the River - ECPv5.16.3.1//NONSGML v1.0//EN
CALSCALE:GREGORIAN
METHOD:PUBLISH
X-WR-CALNAME:92.5 the River
X-ORIGINAL-URL:https://theriverboston.com
X-WR-CALDESC:Events for 92.5 the River
BEGIN:VTIMEZONE
TZID:America/New_York
BEGIN:DAYLIGHT
TZOFFSETFROM:-0500
TZOFFSETTO:-0400
TZNAME:EDT
DTSTART:20180311T070000
END:DAYLIGHT
BEGIN:STANDARD
TZOFFSETFROM:-0400
TZOFFSETTO:-0500
TZNAME:EST
DTSTART:20181104T060000
END:STANDARD
END:VTIMEZONE
BEGIN:VEVENT
DTSTART;TZID=America/New_York:20180927T150000
DTEND;TZID=America/New_York:20180927T190000
DTSTAMP:20260422T072835
CREATED:20180828T143653Z
LAST-MODIFIED:20180828T143653Z
UID:113493-1538060400-1538074800@theriverboston.com
SUMMARY:Tri-City Expo @ Manchester Downtown Hotel!
DESCRIPTION:Presented by Service Credit Union\, the Tri City Expo is celebrating 30 years as the region’s largest business to business expo. Come to the Tri City Expo on Thursday\, September 27th from 3 pm to 7 pm at the Manchester Downtown Hotel Expo Center. \nThis event is presented by the Greater Concord\, Manchester and Nashua Chambers of Commerce. Attendance is free and is open to the entire business community! Visit http://www.TriCityExpo.com for more information and to view the list of exhibitors. \nTri-City Expo…. Connecting Business in New Hampshire
URL:https://theriverboston.com/events/tri-city-expo-manchester-downtown-hotel/
LOCATION:Manchester Downtown Hotel\, 700 Elm Street\, Manchester\, NH\, 03101\, United States
END:VEVENT
END:VCALENDAR