BEGIN:VCALENDAR
VERSION:2.0
PRODID:-//92.5 the River - ECPv5.16.3.1//NONSGML v1.0//EN
CALSCALE:GREGORIAN
METHOD:PUBLISH
X-WR-CALNAME:92.5 the River
X-ORIGINAL-URL:https://theriverboston.com
X-WR-CALDESC:Events for 92.5 the River
BEGIN:VTIMEZONE
TZID:America/New_York
BEGIN:DAYLIGHT
TZOFFSETFROM:-0500
TZOFFSETTO:-0400
TZNAME:EDT
DTSTART:20250309T070000
END:DAYLIGHT
BEGIN:STANDARD
TZOFFSETFROM:-0400
TZOFFSETTO:-0500
TZNAME:EST
DTSTART:20251102T060000
END:STANDARD
END:VTIMEZONE
BEGIN:VEVENT
DTSTART;TZID=America/New_York:20250816T190000
DTEND;TZID=America/New_York:20250816T190000
DTSTAMP:20260424T001059
CREATED:20250806T144634Z
LAST-MODIFIED:20250806T145437Z
UID:228404-1755370800-1755370800@theriverboston.com
SUMMARY:Toad The Wet Sprocket-KT Tunstall-Sixpence None the Richer - Chevalier Theatre
DESCRIPTION:VIEW TICKETS\nToad the Wet Sprocket 2025 Good Intentions Tour\nwith KT Tunstall & Sixpence None the Richer\n\nToad the Wet Sprocket – the beloved alternative rock band from Santa Barbara\, California\, first captured audiences in the late 1980s with their heartfelt lyrics and melodic sound. Rising to prominence with albums like Fear (1991) and Dulcinea (1994)\, they became known for hits such as “Walk on the Ocean\,” “All I Want\,” and “Good Intentions.” \nKT Tunstall – the Grammy-nominated\, Brit Award-winning Scottish artist made an indelible mark on the music world with her 2004 multi-platinum debut Eye to the Telescope\, immediately establishing herself as a formidable force. \nSixpence None the Richer – an American alternative rock band best known for their hit single “Kiss Me”\, which reached number two on the Billboard Hot 100 and was a top-10 song in sixteen countries. “Kiss Me” continues to rise in popularity\, regularly appearing in Shazam’s weekly Top 200 songs\, going viral on TikTok\, and frequently appearing in film\, television\, and advertisements worldwide. In July of 2024 “Kiss Me” was RIAA certified 3-times platinum. \nRead More \n  \n\nFind More Shows at Bill Blumenreich Presents: Chevalier Theatre \n 
URL:https://theriverboston.com/events/ttws-kt-tunstall-sixpence-chevalier/
LOCATION:Chevalier Theatre\, 30 Forest St.\, Medford\, MA\, 02155\, United States
END:VEVENT
END:VCALENDAR