BEGIN:VCALENDAR
VERSION:2.0
PRODID:-//92.5 the River - ECPv5.16.3.1//NONSGML v1.0//EN
CALSCALE:GREGORIAN
METHOD:PUBLISH
X-WR-CALNAME:92.5 the River
X-ORIGINAL-URL:https://theriverboston.com
X-WR-CALDESC:Events for 92.5 the River
BEGIN:VTIMEZONE
TZID:America/New_York
BEGIN:DAYLIGHT
TZOFFSETFROM:-0500
TZOFFSETTO:-0400
TZNAME:EDT
DTSTART:20200308T070000
END:DAYLIGHT
BEGIN:STANDARD
TZOFFSETFROM:-0400
TZOFFSETTO:-0500
TZNAME:EST
DTSTART:20201101T060000
END:STANDARD
END:VTIMEZONE
BEGIN:VEVENT
DTSTART;TZID=America/New_York:20200229T190000
DTEND;TZID=America/New_York:20200229T190000
DTSTAMP:20260422T145254
CREATED:20200207T182015Z
LAST-MODIFIED:20200227T165747Z
UID:211781-1583002800-1583002800@theriverboston.com
SUMMARY:Tusk is coming to The Cabot!
DESCRIPTION:See Tusk at The Cabot!\nTusk covers all the great hits of Fleetwood Mac\, which has featured the talents of Mick Fleetwood\, Christine and John McVie\, Lindsey Buckingham\, Stevie Nicks and others over the years. The five seasoned\, well-respected musicians comprising Tusk have been making music together in various combinations and styles\, in original outfits and in cover bands\, for over twenty-five years. Don’t miss this show! \nThe Cabot turns 100 this year and to celebrate\, is having special events all year long! Find the full list of 100 Events here.
URL:https://theriverboston.com/events/tusk-is-coming-to-the-cabot/
LOCATION:THE CABOT\, 286 Cabot Street\, Beverly\, MA\, 01915\, United States
END:VEVENT
END:VCALENDAR