BEGIN:VCALENDAR
VERSION:2.0
PRODID:-//92.5 the River - ECPv5.16.3.1//NONSGML v1.0//EN
CALSCALE:GREGORIAN
METHOD:PUBLISH
X-WR-CALNAME:92.5 the River
X-ORIGINAL-URL:https://theriverboston.com
X-WR-CALDESC:Events for 92.5 the River
BEGIN:VTIMEZONE
TZID:America/New_York
BEGIN:DAYLIGHT
TZOFFSETFROM:-0500
TZOFFSETTO:-0400
TZNAME:EDT
DTSTART:20190310T070000
END:DAYLIGHT
BEGIN:STANDARD
TZOFFSETFROM:-0400
TZOFFSETTO:-0500
TZNAME:EST
DTSTART:20191103T060000
END:STANDARD
END:VTIMEZONE
BEGIN:VEVENT
DTSTART;TZID=America/New_York:20190916T190000
DTEND;TZID=America/New_York:20190916T190000
DTSTAMP:20260423T214656
CREATED:20190508T182027Z
LAST-MODIFIED:20190508T182027Z
UID:208971-1568660400-1568660400@theriverboston.com
SUMMARY:Two Door Cinema Club At The House Of Blues
DESCRIPTION:Two Door Cinema Club will be performing in support of their new album False Alarm at The House Of Blues. The show will be on September 16th and it will start at 7:00pm. Enter to win tickets before its to late! Now through Friday\, May 10th at 9:00am.
URL:https://theriverboston.com/events/two-door-cinema-club-at-the-house-of-blues/
LOCATION:House of Blues Boston\, 15 Landsdowne Street\, Boston\, MA\, 02215\, United States
END:VEVENT
END:VCALENDAR