BEGIN:VCALENDAR
VERSION:2.0
PRODID:-//92.5 the River - ECPv5.16.3.1//NONSGML v1.0//EN
CALSCALE:GREGORIAN
METHOD:PUBLISH
X-WR-CALNAME:92.5 the River
X-ORIGINAL-URL:https://theriverboston.com
X-WR-CALDESC:Events for 92.5 the River
BEGIN:VTIMEZONE
TZID:America/New_York
BEGIN:DAYLIGHT
TZOFFSETFROM:-0500
TZOFFSETTO:-0400
TZNAME:EDT
DTSTART:20180311T070000
END:DAYLIGHT
BEGIN:STANDARD
TZOFFSETFROM:-0400
TZOFFSETTO:-0500
TZNAME:EST
DTSTART:20181104T060000
END:STANDARD
END:VTIMEZONE
BEGIN:VEVENT
DTSTART;TZID=America/New_York:20181213T200000
DTEND;TZID=America/New_York:20181213T220000
DTSTAMP:20260419T143929
CREATED:20181126T164402Z
LAST-MODIFIED:20181128T172237Z
UID:205025-1544731200-1544738400@theriverboston.com
SUMMARY:Ugly Sweater Party At The Peddlers Daughter In Nashua\, NH!
DESCRIPTION:Join the River and Long Trail Brewing Thursday\, December 13th from 8-10PM at The Peddlers Daughter in Nashua to celebrate the season! Enjoy a frosty cold Long Trail Ale\, plus take part in the ugly sweater competition! Since 1989\, Long Trail has been a leader in the craft brewing industry. Join the fun and some holiday cheer while showcasing your finest holiday sweater. After all\, Christmas comes but once a year\, and when else are you going to wear one? Besides\, the lucky winner of the contest will win a prize courtesy of Long Trail! The River will be there so stop by and take a spin on the prize wheel. Join the River Roadies for some Holiday Fun at the Peddlers Daughter where there’s always a great selection of food and craft-brewed beers! For hours\, directions\, and more details visit https://www.facebook.com/PeddlersNashua/ or http://www.thepeddlersdaughter.com/.
URL:https://theriverboston.com/events/ugly-sweater-party-at-the-peddlers-daughter-in-nashua-nh/
LOCATION:The Peddler’s Daughter\, 48 Main Street\, Nashua\, NH\, 03060\, United States
END:VEVENT
END:VCALENDAR